Package: MobilityTransformR Version: 1.8.0 Command: rm -rf MobilityTransformR.buildbin-libdir && mkdir MobilityTransformR.buildbin-libdir && F:\biocbuild\bbs-3.19-bioc\R\bin\R.exe CMD INSTALL --build --library=MobilityTransformR.buildbin-libdir MobilityTransformR_1.8.0.tar.gz StartedAt: 2024-06-27 08:31:46 -0400 (Thu, 27 Jun 2024) EndedAt: 2024-06-27 08:32:43 -0400 (Thu, 27 Jun 2024) EllapsedTime: 56.7 seconds RetCode: 0 Status: OK PackageFile: MobilityTransformR_1.8.0.zip PackageFileSize: 376.6 KiB