Package: MoonlightR Version: 1.30.0 Command: /Library/Frameworks/R.framework/Resources/bin/R CMD INSTALL MoonlightR StartedAt: 2024-10-16 16:21:36 -0400 (Wed, 16 Oct 2024) EndedAt: 2024-10-16 16:23:51 -0400 (Wed, 16 Oct 2024) EllapsedTime: 135.3 seconds RetCode: 0 Status: OK