Package: MoonlightR Version: 1.30.0 Command: rm -rf MoonlightR.buildbin-libdir && mkdir MoonlightR.buildbin-libdir && E:\biocbuild\bbs-3.19-bioc\R\bin\R.exe CMD INSTALL --build --library=MoonlightR.buildbin-libdir MoonlightR_1.30.0.tar.gz StartedAt: 2024-10-17 08:10:35 -0400 (Thu, 17 Oct 2024) EndedAt: 2024-10-17 08:11:46 -0400 (Thu, 17 Oct 2024) EllapsedTime: 71.4 seconds RetCode: 0 Status: OK PackageFile: MoonlightR_1.30.0.zip PackageFileSize: 8.654 MiB