Package: MoonlightR Version: 1.30.0 Command: chmod a+r MoonlightR -R && E:\biocbuild\bbs-3.19-bioc\R\bin\R.exe CMD build --keep-empty-dirs --no-resave-data MoonlightR StartedAt: 2024-10-16 20:26:23 -0400 (Wed, 16 Oct 2024) EndedAt: 2024-10-16 20:29:03 -0400 (Wed, 16 Oct 2024) EllapsedTime: 159.6 seconds RetCode: 0 Status: OK PackageFile: MoonlightR_1.30.0.tar.gz PackageFileSize: 14.3 MiB