Package: MotifDb Version: 1.46.0 Command: /Library/Frameworks/R.framework/Resources/bin/R CMD check --install=check:MotifDb.install-out.txt --library=/Library/Frameworks/R.framework/Resources/library --no-vignettes --timings MotifDb_1.46.0.tar.gz StartedAt: 2024-10-18 04:49:29 -0400 (Fri, 18 Oct 2024) EndedAt: 2024-10-18 04:55:57 -0400 (Fri, 18 Oct 2024) EllapsedTime: 387.7 seconds RetCode: 0 Status: WARNINGS CheckDir: MotifDb.Rcheck Warnings: 2