Package: MotifDb Version: 1.46.0 Command: /home/biocbuild/bbs-3.19-bioc/R/bin/R CMD INSTALL MotifDb StartedAt: 2024-10-16 16:06:06 -0400 (Wed, 16 Oct 2024) EndedAt: 2024-10-16 16:06:46 -0400 (Wed, 16 Oct 2024) EllapsedTime: 39.7 seconds RetCode: 0 Status: OK