Package: MotifDb Version: 1.46.0 Command: E:\biocbuild\bbs-3.19-bioc\R\bin\R.exe CMD check --no-multiarch --install=check:MotifDb.install-out.txt --library=E:\biocbuild\bbs-3.19-bioc\R\library --no-vignettes --timings MotifDb_1.46.0.tar.gz StartedAt: 2024-10-17 03:35:26 -0400 (Thu, 17 Oct 2024) EndedAt: 2024-10-17 03:41:24 -0400 (Thu, 17 Oct 2024) EllapsedTime: 358.4 seconds RetCode: 0 Status: WARNINGS CheckDir: MotifDb.Rcheck Warnings: 2