Package: MsBackendMassbank Version: 1.12.0 Command: /home/biocbuild/R/R-beta-2024-04-15_r86425/bin/R CMD INSTALL MsBackendMassbank StartedAt: 2024-05-08 20:22:46 -0000 (Wed, 08 May 2024) EndedAt: 2024-05-08 20:23:01 -0000 (Wed, 08 May 2024) EllapsedTime: 15.3 seconds RetCode: 0 Status: OK