Package: MsBackendMassbank Version: 1.12.0 Command: /Library/Frameworks/R.framework/Resources/bin/R CMD build --keep-empty-dirs --no-resave-data MsBackendMassbank StartedAt: 2024-10-16 21:17:31 -0400 (Wed, 16 Oct 2024) EndedAt: 2024-10-16 21:18:46 -0400 (Wed, 16 Oct 2024) EllapsedTime: 75.0 seconds RetCode: 0 Status: OK PackageFile: MsBackendMassbank_1.12.0.tar.gz PackageFileSize: 418.1 KiB