Package: MsBackendMassbank Version: 1.12.0 Command: /Library/Frameworks/R.framework/Resources/bin/R CMD INSTALL MsBackendMassbank StartedAt: 2024-10-16 15:31:02 -0400 (Wed, 16 Oct 2024) EndedAt: 2024-10-16 15:31:31 -0400 (Wed, 16 Oct 2024) EllapsedTime: 28.4 seconds RetCode: 0 Status: OK