Package: MsBackendMassbank Version: 1.12.0 Command: chmod a+r MsBackendMassbank -R && E:\biocbuild\bbs-3.19-bioc\R\bin\R.exe CMD build --keep-empty-dirs --no-resave-data MsBackendMassbank StartedAt: 2024-10-16 20:30:12 -0400 (Wed, 16 Oct 2024) EndedAt: 2024-10-16 20:31:00 -0400 (Wed, 16 Oct 2024) EllapsedTime: 48.5 seconds RetCode: 0 Status: OK PackageFile: MsBackendMassbank_1.12.0.tar.gz PackageFileSize: 396.4 KiB