Package: MsDataHub Version: 1.4.0 Command: rm -rf MsDataHub.buildbin-libdir && mkdir MsDataHub.buildbin-libdir && /Users/biocbuild/BBS/utils/build-universal.sh MsDataHub_1.4.0.tar.gz /Library/Frameworks/R.framework/Resources/bin/R MsDataHub.buildbin-libdir StartedAt: 2024-06-11 12:11:13 -0400 (Tue, 11 Jun 2024) EndedAt: 2024-06-11 12:11:41 -0400 (Tue, 11 Jun 2024) EllapsedTime: 28.1 seconds RetCode: 0 Status: OK PackageFile: MsDataHub_1.4.0.tgz PackageFileSize: 384.5 KiB