Package: MsDataHub Version: 1.4.0 Command: /Library/Frameworks/R.framework/Resources/bin/R CMD check --install=check:MsDataHub.install-out.txt --library=/Library/Frameworks/R.framework/Resources/library --no-vignettes --timings MsDataHub_1.4.0.tar.gz StartedAt: 2024-06-10 22:59:48 -0400 (Mon, 10 Jun 2024) EndedAt: 2024-06-10 23:02:33 -0400 (Mon, 10 Jun 2024) EllapsedTime: 164.4 seconds RetCode: 0 Status: OK CheckDir: MsDataHub.Rcheck Warnings: 0