Package: MsDataHub Version: 1.4.0 Command: /home/biocbuild/R/R-beta-2024-04-15_r86425/bin/R CMD build --keep-empty-dirs --no-resave-data MsDataHub StartedAt: 2024-05-09 01:55:35 -0000 (Thu, 09 May 2024) EndedAt: 2024-05-09 02:01:22 -0000 (Thu, 09 May 2024) EllapsedTime: 346.5 seconds RetCode: 0 Status: OK PackageFile: MsDataHub_1.4.0.tar.gz PackageFileSize: 464.6 KiB