Package: MsDataHub Version: 1.4.0 Command: rm -rf MsDataHub.buildbin-libdir && mkdir MsDataHub.buildbin-libdir && E:\biocbuild\bbs-3.19-bioc\R\bin\R.exe CMD INSTALL --build --library=MsDataHub.buildbin-libdir MsDataHub_1.4.0.tar.gz StartedAt: 2024-10-17 08:11:55 -0400 (Thu, 17 Oct 2024) EndedAt: 2024-10-17 08:12:14 -0400 (Thu, 17 Oct 2024) EllapsedTime: 18.9 seconds RetCode: 0 Status: OK PackageFile: MsDataHub_1.4.0.zip PackageFileSize: 391.4 KiB