Package: MsFeatures Version: 1.12.0 Command: /Library/Frameworks/R.framework/Resources/bin/R CMD INSTALL MsFeatures StartedAt: 2024-06-09 15:17:35 -0400 (Sun, 09 Jun 2024) EndedAt: 2024-06-09 15:18:03 -0400 (Sun, 09 Jun 2024) EllapsedTime: 28.2 seconds RetCode: 0 Status: OK