Package: MuData Version: 1.8.0 Command: /Library/Frameworks/R.framework/Resources/bin/R CMD build --keep-empty-dirs --no-resave-data MuData StartedAt: 2024-06-09 17:27:34 -0400 (Sun, 09 Jun 2024) EndedAt: 2024-06-09 17:30:25 -0400 (Sun, 09 Jun 2024) EllapsedTime: 171.2 seconds RetCode: 0 Status: OK PackageFile: MuData_1.8.0.tar.gz PackageFileSize: 2.235 MiB