Package: MuData Version: 1.8.0 Command: /home/biocbuild/bbs-3.19-bioc/R/bin/R CMD build --keep-empty-dirs --no-resave-data MuData StartedAt: 2024-10-16 19:42:17 -0400 (Wed, 16 Oct 2024) EndedAt: 2024-10-16 19:44:30 -0400 (Wed, 16 Oct 2024) EllapsedTime: 133.3 seconds RetCode: 0 Status: OK PackageFile: MuData_1.8.0.tar.gz PackageFileSize: 2.063 MiB