Package: Mulcom Version: 1.54.0 Command: /home/biocbuild/bbs-3.19-bioc/R/bin/R CMD check --install=check:Mulcom.install-out.txt --library=/home/biocbuild/bbs-3.19-bioc/R/site-library --timings Mulcom_1.54.0.tar.gz StartedAt: 2024-10-17 02:52:37 -0400 (Thu, 17 Oct 2024) EndedAt: 2024-10-17 02:53:28 -0400 (Thu, 17 Oct 2024) EllapsedTime: 51.1 seconds RetCode: 0 Status: WARNINGS CheckDir: Mulcom.Rcheck Warnings: 1