Package: MultiRNAflow Version: 1.2.0 Command: rm -rf MultiRNAflow.buildbin-libdir && mkdir MultiRNAflow.buildbin-libdir && /Users/biocbuild/BBS/utils/build-universal.sh MultiRNAflow_1.2.0.tar.gz /Library/Frameworks/R.framework/Resources/bin/R MultiRNAflow.buildbin-libdir StartedAt: 2024-10-18 19:40:14 -0400 (Fri, 18 Oct 2024) EndedAt: 2024-10-18 19:41:53 -0400 (Fri, 18 Oct 2024) EllapsedTime: 98.6 seconds RetCode: 0 Status: OK PackageFile: MultiRNAflow_1.2.0.tgz PackageFileSize: 3.026 MiB