Package: MultiRNAflow Version: 1.2.0 Command: F:\biocbuild\bbs-3.19-bioc\R\bin\R.exe CMD INSTALL MultiRNAflow StartedAt: 2024-06-26 16:52:07 -0400 (Wed, 26 Jun 2024) EndedAt: 2024-06-26 16:52:58 -0400 (Wed, 26 Jun 2024) EllapsedTime: 51.8 seconds RetCode: 0 Status: OK