Package: MungeSumstats Version: 1.12.2 Command: /Library/Frameworks/R.framework/Resources/bin/R CMD check --install=check:MungeSumstats.install-out.txt --library=/Library/Frameworks/R.framework/Resources/library --no-vignettes --timings MungeSumstats_1.12.2.tar.gz StartedAt: 2024-10-18 05:34:43 -0400 (Fri, 18 Oct 2024) EndedAt: 2024-10-18 05:50:33 -0400 (Fri, 18 Oct 2024) EllapsedTime: 950.0 seconds RetCode: 0 Status: OK CheckDir: MungeSumstats.Rcheck Warnings: 0