Package: MungeSumstats Version: 1.12.2 Command: /Library/Frameworks/R.framework/Resources/bin/R CMD INSTALL MungeSumstats StartedAt: 2024-10-16 16:53:29 -0400 (Wed, 16 Oct 2024) EndedAt: 2024-10-16 16:54:21 -0400 (Wed, 16 Oct 2024) EllapsedTime: 51.8 seconds RetCode: 0 Status: OK