Package: MungeSumstats Version: 1.12.0 Command: /Library/Frameworks/R.framework/Resources/bin/R CMD build --keep-empty-dirs --no-resave-data MungeSumstats StartedAt: 2024-06-09 17:29:03 -0400 (Sun, 09 Jun 2024) EndedAt: 2024-06-09 17:30:29 -0400 (Sun, 09 Jun 2024) EllapsedTime: 86.7 seconds RetCode: 0 Status: OK PackageFile: MungeSumstats_1.12.0.tar.gz PackageFileSize: 2.365 MiB