Package: MungeSumstats Version: 1.12.2 Command: /home/biocbuild/bbs-3.19-bioc/R/bin/R CMD build --keep-empty-dirs --no-resave-data MungeSumstats StartedAt: 2024-10-16 19:43:21 -0400 (Wed, 16 Oct 2024) EndedAt: 2024-10-16 19:44:38 -0400 (Wed, 16 Oct 2024) EllapsedTime: 77.1 seconds RetCode: 0 Status: OK PackageFile: MungeSumstats_1.12.2.tar.gz PackageFileSize: 2.366 MiB