Package: MungeSumstats Version: 1.12.2 Command: /home/biocbuild/bbs-3.19-bioc/R/bin/R CMD check --install=check:MungeSumstats.install-out.txt --library=/home/biocbuild/bbs-3.19-bioc/R/site-library --timings MungeSumstats_1.12.2.tar.gz StartedAt: 2024-10-17 02:57:13 -0400 (Thu, 17 Oct 2024) EndedAt: 2024-10-17 03:12:43 -0400 (Thu, 17 Oct 2024) EllapsedTime: 930.2 seconds RetCode: 0 Status: OK CheckDir: MungeSumstats.Rcheck Warnings: 0