Package: MungeSumstats Version: 1.12.2 Command: rm -rf MungeSumstats.buildbin-libdir && mkdir MungeSumstats.buildbin-libdir && E:\biocbuild\bbs-3.19-bioc\R\bin\R.exe CMD INSTALL --build --library=MungeSumstats.buildbin-libdir MungeSumstats_1.12.2.tar.gz StartedAt: 2024-10-17 08:13:55 -0400 (Thu, 17 Oct 2024) EndedAt: 2024-10-17 08:15:39 -0400 (Thu, 17 Oct 2024) EllapsedTime: 104.6 seconds RetCode: 0 Status: OK PackageFile: MungeSumstats_1.12.2.zip PackageFileSize: 2.759 MiB