Package: MungeSumstats Version: 1.12.2 Command: E:\biocbuild\bbs-3.19-bioc\R\bin\R.exe CMD check --no-multiarch --install=check:MungeSumstats.install-out.txt --library=E:\biocbuild\bbs-3.19-bioc\R\library --no-vignettes --timings MungeSumstats_1.12.2.tar.gz StartedAt: 2024-10-17 03:49:54 -0400 (Thu, 17 Oct 2024) EndedAt: 2024-10-17 04:05:25 -0400 (Thu, 17 Oct 2024) EllapsedTime: 930.9 seconds RetCode: 0 Status: OK CheckDir: MungeSumstats.Rcheck Warnings: 0