Package: MutationalPatterns Version: 3.14.0 Maintainer: Mark van Roosmalen MaintainerEmail: vanBoxtelBioinformatics at prinsesmaximacentrum.nl git_url: https://git.bioconductor.org/packages/MutationalPatterns git_branch: RELEASE_3_19 git_last_commit: 268518e git_last_commit_date: 2024-04-30 10:54:30 -0400 (Tue, 30 Apr 2024)