Package: MutationalPatterns Version: 3.14.0 Command: /Library/Frameworks/R.framework/Resources/bin/R CMD INSTALL MutationalPatterns StartedAt: 2024-10-16 16:58:24 -0400 (Wed, 16 Oct 2024) EndedAt: 2024-10-16 16:58:45 -0400 (Wed, 16 Oct 2024) EllapsedTime: 21.9 seconds RetCode: 0 Status: OK