Package: MutationalPatterns Version: 3.14.0 Command: /Library/Frameworks/R.framework/Resources/bin/R CMD build --keep-empty-dirs --no-resave-data MutationalPatterns StartedAt: 2024-10-16 21:30:11 -0400 (Wed, 16 Oct 2024) EndedAt: 2024-10-16 21:36:44 -0400 (Wed, 16 Oct 2024) EllapsedTime: 392.5 seconds RetCode: 1 Status: ERROR PackageFile: None PackageFileSize: NA