Package: MutationalPatterns Version: 3.14.0 Command: /Library/Frameworks/R.framework/Resources/bin/R CMD INSTALL MutationalPatterns StartedAt: 2024-10-16 15:49:54 -0400 (Wed, 16 Oct 2024) EndedAt: 2024-10-16 15:50:40 -0400 (Wed, 16 Oct 2024) EllapsedTime: 46.4 seconds RetCode: 0 Status: OK