Package: NADfinder Version: 1.28.0 Command: rm -rf NADfinder.buildbin-libdir && mkdir NADfinder.buildbin-libdir && /Users/biocbuild/BBS/utils/build-universal.sh NADfinder_1.28.0.tar.gz /Library/Frameworks/R.framework/Resources/bin/R NADfinder.buildbin-libdir StartedAt: 2024-10-17 16:42:54 -0400 (Thu, 17 Oct 2024) EndedAt: 2024-10-17 16:45:47 -0400 (Thu, 17 Oct 2024) EllapsedTime: 172.7 seconds RetCode: 0 Status: OK PackageFile: NADfinder_1.28.0.tgz PackageFileSize: 6.474 MiB