Package: NADfinder Version: 1.28.0 Command: rm -rf NADfinder.buildbin-libdir && mkdir NADfinder.buildbin-libdir && E:\biocbuild\bbs-3.19-bioc\R\bin\R.exe CMD INSTALL --build --library=NADfinder.buildbin-libdir NADfinder_1.28.0.tar.gz StartedAt: 2024-10-17 08:14:38 -0400 (Thu, 17 Oct 2024) EndedAt: 2024-10-17 08:16:07 -0400 (Thu, 17 Oct 2024) EllapsedTime: 89.0 seconds RetCode: 0 Status: OK PackageFile: NADfinder_1.28.0.zip PackageFileSize: 6.169 MiB