Package: NBAMSeq Version: 1.20.0 Command: /Library/Frameworks/R.framework/Resources/bin/R CMD build --keep-empty-dirs --no-resave-data NBAMSeq StartedAt: 2024-10-17 05:29:59 -0400 (Thu, 17 Oct 2024) EndedAt: 2024-10-17 05:31:10 -0400 (Thu, 17 Oct 2024) EllapsedTime: 70.5 seconds RetCode: 0 Status: OK PackageFile: NBAMSeq_1.20.0.tar.gz PackageFileSize: 347 KiB