Package: NBAMSeq Version: 1.20.0 Command: /Library/Frameworks/R.framework/Resources/bin/R CMD check --install=check:NBAMSeq.install-out.txt --library=/Library/Frameworks/R.framework/Resources/library --no-vignettes --timings NBAMSeq_1.20.0.tar.gz StartedAt: 2024-10-18 05:48:14 -0400 (Fri, 18 Oct 2024) EndedAt: 2024-10-18 05:52:26 -0400 (Fri, 18 Oct 2024) EllapsedTime: 252.0 seconds RetCode: 0 Status: OK CheckDir: NBAMSeq.Rcheck Warnings: 0