Package: NBAMSeq Version: 1.20.0 Command: /Library/Frameworks/R.framework/Resources/bin/R CMD INSTALL NBAMSeq StartedAt: 2024-10-16 17:59:11 -0400 (Wed, 16 Oct 2024) EndedAt: 2024-10-16 17:59:46 -0400 (Wed, 16 Oct 2024) EllapsedTime: 35.1 seconds RetCode: 0 Status: OK