Package: NBAMSeq Version: 1.20.0 Command: E:\biocbuild\bbs-3.19-bioc\R\bin\R.exe CMD INSTALL NBAMSeq StartedAt: 2024-10-16 17:00:19 -0400 (Wed, 16 Oct 2024) EndedAt: 2024-10-16 17:00:53 -0400 (Wed, 16 Oct 2024) EllapsedTime: 33.8 seconds RetCode: 0 Status: OK