Package: NanoMethViz Version: 3.0.2 Command: /home/biocbuild/bbs-3.19-bioc/R/bin/R CMD build --keep-empty-dirs --no-resave-data NanoMethViz StartedAt: 2024-10-16 19:44:39 -0400 (Wed, 16 Oct 2024) EndedAt: 2024-10-16 19:47:29 -0400 (Wed, 16 Oct 2024) EllapsedTime: 169.4 seconds RetCode: 0 Status: OK PackageFile: NanoMethViz_3.0.2.tar.gz PackageFileSize: 6.087 MiB