Package: NanoMethViz Version: 3.0.2 Command: rm -rf NanoMethViz.buildbin-libdir && mkdir NanoMethViz.buildbin-libdir && E:\biocbuild\bbs-3.19-bioc\R\bin\R.exe CMD INSTALL --build --library=NanoMethViz.buildbin-libdir NanoMethViz_3.0.2.tar.gz StartedAt: 2024-10-17 08:14:40 -0400 (Thu, 17 Oct 2024) EndedAt: 2024-10-17 08:16:54 -0400 (Thu, 17 Oct 2024) EllapsedTime: 134.1 seconds RetCode: 0 Status: OK PackageFile: NanoMethViz_3.0.2.zip PackageFileSize: 6.661 MiB