Package: NetSAM Version: 1.44.0 Command: /Library/Frameworks/R.framework/Resources/bin/R CMD build --keep-empty-dirs --no-resave-data NetSAM StartedAt: 2024-10-16 21:35:09 -0400 (Wed, 16 Oct 2024) EndedAt: 2024-10-16 21:36:31 -0400 (Wed, 16 Oct 2024) EllapsedTime: 81.9 seconds RetCode: 0 Status: OK PackageFile: NetSAM_1.44.0.tar.gz PackageFileSize: 1.034 MiB