Package: NetSAM Version: 1.44.0 Command: E:\biocbuild\bbs-3.19-bioc\R\bin\R.exe CMD check --no-multiarch --install=check:NetSAM.install-out.txt --library=E:\biocbuild\bbs-3.19-bioc\R\library --no-vignettes --timings NetSAM_1.44.0.tar.gz StartedAt: 2024-10-17 03:57:40 -0400 (Thu, 17 Oct 2024) EndedAt: 2024-10-17 04:22:54 -0400 (Thu, 17 Oct 2024) EllapsedTime: 1514.3 seconds RetCode: 0 Status: OK CheckDir: NetSAM.Rcheck Warnings: 0