Package: NormalyzerDE Version: 1.22.0 Command: rm -rf NormalyzerDE.buildbin-libdir && mkdir NormalyzerDE.buildbin-libdir && /Users/biocbuild/BBS/utils/build-universal.sh NormalyzerDE_1.22.0.tar.gz /Library/Frameworks/R.framework/Resources/bin/R NormalyzerDE.buildbin-libdir StartedAt: 2024-10-18 19:46:29 -0400 (Fri, 18 Oct 2024) EndedAt: 2024-10-18 19:47:03 -0400 (Fri, 18 Oct 2024) EllapsedTime: 34.4 seconds RetCode: 0 Status: OK PackageFile: NormalyzerDE_1.22.0.tgz PackageFileSize: 1.354 MiB