Package: NormalyzerDE Version: 1.22.0 Command: rm -rf NormalyzerDE.buildbin-libdir && mkdir NormalyzerDE.buildbin-libdir && E:\biocbuild\bbs-3.19-bioc\R\bin\R.exe CMD INSTALL --build --library=NormalyzerDE.buildbin-libdir NormalyzerDE_1.22.0.tar.gz StartedAt: 2024-10-17 08:16:12 -0400 (Thu, 17 Oct 2024) EndedAt: 2024-10-17 08:18:18 -0400 (Thu, 17 Oct 2024) EllapsedTime: 125.7 seconds RetCode: 0 Status: OK PackageFile: NormalyzerDE_1.22.0.zip PackageFileSize: 1.398 MiB