Package: OCplus Version: 1.78.0 Command: /Library/Frameworks/R.framework/Resources/bin/R CMD build --keep-empty-dirs --no-resave-data OCplus StartedAt: 2024-10-17 05:45:34 -0400 (Thu, 17 Oct 2024) EndedAt: 2024-10-17 05:46:10 -0400 (Thu, 17 Oct 2024) EllapsedTime: 36.4 seconds RetCode: 0 Status: OK PackageFile: OCplus_1.78.0.tar.gz PackageFileSize: 9.586 MiB