Package: OCplus Version: 1.78.0 Command: rm -rf OCplus.buildbin-libdir && mkdir OCplus.buildbin-libdir && /Users/biocbuild/BBS/utils/build-universal.sh OCplus_1.78.0.tar.gz /Library/Frameworks/R.framework/Resources/bin/R OCplus.buildbin-libdir StartedAt: 2024-06-10 00:30:25 -0400 (Mon, 10 Jun 2024) EndedAt: 2024-06-10 00:30:40 -0400 (Mon, 10 Jun 2024) EllapsedTime: 14.8 seconds RetCode: 0 Status: OK PackageFile: OCplus_1.78.0.tgz PackageFileSize: 9.728 MiB