Package: OCplus Version: 1.78.0 Command: /Library/Frameworks/R.framework/Resources/bin/R CMD build --keep-empty-dirs --no-resave-data OCplus StartedAt: 2024-06-09 17:33:32 -0400 (Sun, 09 Jun 2024) EndedAt: 2024-06-09 17:34:22 -0400 (Sun, 09 Jun 2024) EllapsedTime: 49.3 seconds RetCode: 0 Status: OK PackageFile: OCplus_1.78.0.tar.gz PackageFileSize: 9.585 MiB