Package: OCplus Version: 1.78.0 Command: /Library/Frameworks/R.framework/Resources/bin/R CMD check --install=check:OCplus.install-out.txt --library=/Library/Frameworks/R.framework/Resources/library --no-vignettes --timings OCplus_1.78.0.tar.gz StartedAt: 2024-06-09 21:56:36 -0400 (Sun, 09 Jun 2024) EndedAt: 2024-06-09 21:58:00 -0400 (Sun, 09 Jun 2024) EllapsedTime: 83.7 seconds RetCode: 0 Status: OK CheckDir: OCplus.Rcheck Warnings: 0