Package: OCplus Version: 1.78.0 Command: chmod a+r OCplus -R && F:\biocbuild\bbs-3.19-bioc\R\bin\R.exe CMD build --keep-empty-dirs --no-resave-data OCplus StartedAt: 2024-06-26 20:34:14 -0400 (Wed, 26 Jun 2024) EndedAt: 2024-06-26 20:34:46 -0400 (Wed, 26 Jun 2024) EllapsedTime: 31.8 seconds RetCode: 0 Status: OK PackageFile: OCplus_1.78.0.tar.gz PackageFileSize: 9.587 MiB