Package: OGRE Version: 1.8.0 Command: /Library/Frameworks/R.framework/Resources/bin/R CMD build --keep-empty-dirs --no-resave-data OGRE StartedAt: 2024-10-17 05:46:54 -0400 (Thu, 17 Oct 2024) EndedAt: 2024-10-17 05:49:04 -0400 (Thu, 17 Oct 2024) EllapsedTime: 129.3 seconds RetCode: 0 Status: OK PackageFile: OGRE_1.8.0.tar.gz PackageFileSize: 1.73 MiB